BEGIN:VCALENDAR
VERSION:2.0
PRODID:-//scubaboard - ECPv6.15.18//NONSGML v1.0//EN
CALSCALE:GREGORIAN
METHOD:PUBLISH
X-ORIGINAL-URL:https://www.scubaboard.at
X-WR-CALDESC:Veranstaltungen für scubaboard
REFRESH-INTERVAL;VALUE=DURATION:PT1H
X-Robots-Tag:noindex
X-PUBLISHED-TTL:PT1H
BEGIN:VTIMEZONE
TZID:Europe/Vienna
BEGIN:DAYLIGHT
TZOFFSETFROM:+0100
TZOFFSETTO:+0200
TZNAME:CEST
DTSTART:20250330T010000
END:DAYLIGHT
BEGIN:STANDARD
TZOFFSETFROM:+0200
TZOFFSETTO:+0100
TZNAME:CET
DTSTART:20251026T010000
END:STANDARD
BEGIN:DAYLIGHT
TZOFFSETFROM:+0100
TZOFFSETTO:+0200
TZNAME:CEST
DTSTART:20260329T010000
END:DAYLIGHT
BEGIN:STANDARD
TZOFFSETFROM:+0200
TZOFFSETTO:+0100
TZNAME:CET
DTSTART:20261025T010000
END:STANDARD
BEGIN:DAYLIGHT
TZOFFSETFROM:+0100
TZOFFSETTO:+0200
TZNAME:CEST
DTSTART:20270328T010000
END:DAYLIGHT
BEGIN:STANDARD
TZOFFSETFROM:+0200
TZOFFSETTO:+0100
TZNAME:CET
DTSTART:20271031T010000
END:STANDARD
END:VTIMEZONE
BEGIN:VEVENT
DTSTART;VALUE=DATE:20260912
DTEND;VALUE=DATE:20260914
DTSTAMP:20260420T131815
CREATED:20251115T070048Z
LAST-MODIFIED:20251105T171352Z
UID:10541-1789171200-1789343999@www.scubaboard.at
SUMMARY:SSI Advanced Open Water Diver (AOWD) September
DESCRIPTION:Bereit für dein nächstes Tauchabenteuer?\nDer SSI Advanced Open Water Diver Kurs ist dein Schritt zu neuen Tiefen und faszinierenden Erlebnissen unter Wasser. Sichere dir jetzt deinen Platz für den nächsten Termin! \nErweitere deine Perspektive und entdecke neue Abenteuer unter Wasser!Im SSI AOWD Kurs vertiefst du deine Tauchkenntnisse und tauchst ein\, in fünf spannende Spezialgebiete – darunter Deep Diving\, Navigation\, Night Diving\, Perfect Buoyancy und Search & Recovery. \nGemeinsam mit unseren erfahrenen Instructoren lernst du\, sicherer und selbstständiger zu tauchen – bei Tag und Nacht\, in der Tiefe und unter verschiedensten Bedingungen. \nzur AOWD Kurs Seite \n  \nKursablauf/Termine:  \n\nDie 5 Theorielektionen der jeweiligen Spezialkurse samt Wiederholungsfragen aus dem Online Training bitte vor Kursbeginn vollständig durcharbeiten\nDu benötigst deine eigene ABC Ausrüstung (Maske\, Schnorchel\, Flossen m. Füßlingen)\, sowie ein tauchärztliches Attest\n\n\n\n\n12.09.2026 (ganztägig)\nFreiwasser Tauchgänge (Pichlingersee)\n\n\n13.09.2026 (ganztägig)\nFreiwasser Tauchgänge (Attersee)\n\n\n\nNach erfolgreichem Abschluss erhältst du deine SSI Advanced Open Water Diver Zertifizierung – dein Schlüssel zu neuen Tiefen\, Abenteuern und Erlebnissen weltweit! \nInfos & Anmeldung\nSchreib uns einfach über das Kontaktformular\, besuche uns in der Tauchschule (scubaboard\, Stockhofstraße 9\, 4020 Linz) oder ruf uns einfach an ( Tel. +43 (0) 732 / 66 56 89)
URL:https://www.scubaboard.at/event/ssi-advanced-open-water-diver-aowd-sept26/
LOCATION:Tauchschule Scubaboard\, Stockhofstraße 9\, Linz\, 4020\, Österreich
CATEGORIES:Advanced Open Water Diver (AOWD),Tauchkurse
ATTACH;FMTTYPE=image/jpeg:https://www.scubaboard.at/wp-content/uploads/2025/10/AOWD.jpg
ORGANIZER;CN="scubaboard":MAILTO:shop@scubaboard.at
END:VEVENT
BEGIN:VEVENT
DTSTART;TZID=Europe/Vienna:20260915T184500
DTEND;TZID=Europe/Vienna:20260915T210000
DTSTAMP:20260420T131815
CREATED:20251104T113426Z
LAST-MODIFIED:20251104T113426Z
UID:10491-1789497900-1789506000@www.scubaboard.at
SUMMARY:Scuba Skills Update
DESCRIPTION:Du bist aus der Übung? – Wir machen dich wieder fit!\nTrainiere deine Tauchfertigkeiten\n\nEin Scuba Skills Update bietet dir die Möglichkeit\, die grundlegenden Tauchfertigkeiten\, die du in deinem ursprünglichen Open Water Diver Programm gelernt hast\, zu wiederholen und zu üben. \nNach einer längeren Pause ist das Scuba Skills Update oft eine Voraussetzung für die Fortführung deiner Tauchausbildung. \nDie beste Vorbereitung für deinen Tauchurlaub! \n\n  \nInfos & Anmeldung\nSchreib uns einfach über das Kontaktformular\, besuche uns in der Tauchschule (scubaboard\, Stockhofstraße 9\, 4020 Linz) oder ruf uns einfach an ( Tel. +43 (0) 732 / 66 56 89)
URL:https://www.scubaboard.at/event/scuba-skills-update-11/
LOCATION:Tauchschule Scubaboard\, Stockhofstraße 9\, Linz\, 4020\, Österreich
CATEGORIES:Scuba Skills Update,Tauchkurse
ATTACH;FMTTYPE=image/jpeg:https://www.scubaboard.at/wp-content/uploads/2025/11/Scuba-Skills-Update-scaled.jpg
END:VEVENT
BEGIN:VEVENT
DTSTART;VALUE=DATE:20261010
DTEND;VALUE=DATE:20261012
DTSTAMP:20260420T131815
CREATED:20251115T070051Z
LAST-MODIFIED:20251105T171650Z
UID:10542-1791590400-1791763199@www.scubaboard.at
SUMMARY:SSI Advanced Open Water Diver (AOWD) Oktober
DESCRIPTION:Bereit für dein nächstes Tauchabenteuer?\nDer SSI Advanced Open Water Diver Kurs ist dein Schritt zu neuen Tiefen und faszinierenden Erlebnissen unter Wasser. Sichere dir jetzt deinen Platz für den nächsten Termin! \nErweitere deine Perspektive und entdecke neue Abenteuer unter Wasser!Im SSI AOWD Kurs vertiefst du deine Tauchkenntnisse und tauchst ein\, in fünf spannende Spezialgebiete – darunter Deep Diving\, Navigation\, Night Diving\, Perfect Buoyancy und Search & Recovery. \nGemeinsam mit unseren erfahrenen Instructoren lernst du\, sicherer und selbstständiger zu tauchen – bei Tag und Nacht\, in der Tiefe und unter verschiedensten Bedingungen. \nzur AOWD Kurs Seite \n  \nKursablauf/Termine:  \n\nDie 5 Theorielektionen der jeweiligen Spezialkurse samt Wiederholungsfragen aus dem Online Training bitte vor Kursbeginn vollständig durcharbeiten\nDu benötigst deine eigene ABC Ausrüstung (Maske\, Schnorchel\, Flossen m. Füßlingen)\, sowie ein tauchärztliches Attest\n\n\n\n\n10.10.2026 (ganztägig)\nFreiwasser Tauchgänge (Pichlingersee)\n\n\n11.10.2026 (ganztägig)\nFreiwasser Tauchgänge (Attersee)\n\n\n\nNach erfolgreichem Abschluss erhältst du deine SSI Advanced Open Water Diver Zertifizierung – dein Schlüssel zu neuen Tiefen\, Abenteuern und Erlebnissen weltweit! \nInfos & Anmeldung\nSchreib uns einfach über das Kontaktformular\, besuche uns in der Tauchschule (scubaboard\, Stockhofstraße 9\, 4020 Linz) oder ruf uns einfach an ( Tel. +43 (0) 732 / 66 56 89)
URL:https://www.scubaboard.at/event/ssi-advanced-open-water-diver-aowd-okt26/
LOCATION:Tauchschule Scubaboard\, Stockhofstraße 9\, Linz\, 4020\, Österreich
CATEGORIES:Advanced Open Water Diver (AOWD),Tauchkurse
ATTACH;FMTTYPE=image/jpeg:https://www.scubaboard.at/wp-content/uploads/2025/10/AOWD.jpg
ORGANIZER;CN="scubaboard":MAILTO:shop@scubaboard.at
END:VEVENT
BEGIN:VEVENT
DTSTART;TZID=Europe/Vienna:20261020T184000
DTEND;TZID=Europe/Vienna:20261020T210000
DTSTAMP:20260420T131815
CREATED:20251104T113743Z
LAST-MODIFIED:20251104T113836Z
UID:10492-1792521600-1792530000@www.scubaboard.at
SUMMARY:Scuba Skills Update
DESCRIPTION:Du bist aus der Übung? – Wir machen dich wieder fit!\nTrainiere deine Tauchfertigkeiten\n\nEin Scuba Skills Update bietet dir die Möglichkeit\, die grundlegenden Tauchfertigkeiten\, die du in deinem ursprünglichen Open Water Diver Programm gelernt hast\, zu wiederholen und zu üben. \nNach einer längeren Pause ist das Scuba Skills Update oft eine Voraussetzung für die Fortführung deiner Tauchausbildung. \nDie beste Vorbereitung für deinen Tauchurlaub! \n\n  \nInfos & Anmeldung\nSchreib uns einfach über das Kontaktformular\, besuche uns in der Tauchschule (scubaboard\, Stockhofstraße 9\, 4020 Linz) oder ruf uns einfach an ( Tel. +43 (0) 732 / 66 56 89)
URL:https://www.scubaboard.at/event/scuba-skills-update-12/
CATEGORIES:Scuba Skills Update
ATTACH;FMTTYPE=image/jpeg:https://www.scubaboard.at/wp-content/uploads/2025/11/Scuba-Skills-Update-scaled.jpg
END:VEVENT
BEGIN:VEVENT
DTSTART;TZID=Europe/Vienna:20261117T184000
DTEND;TZID=Europe/Vienna:20261117T210000
DTSTAMP:20260420T131815
CREATED:20251104T124715Z
LAST-MODIFIED:20251104T124715Z
UID:10488-1794940800-1794949200@www.scubaboard.at
SUMMARY:Scuba Skills Update
DESCRIPTION:Du bist aus der Übung? – Wir machen dich wieder fit!\nTrainiere deine Tauchfertigkeiten\n\nEin Scuba Skills Update bietet dir die Möglichkeit\, die grundlegenden Tauchfertigkeiten\, die du in deinem ursprünglichen Open Water Diver Programm gelernt hast\, zu wiederholen und zu üben. \nNach einer längeren Pause ist das Scuba Skills Update oft eine Voraussetzung für die Fortführung deiner Tauchausbildung. \nDie beste Vorbereitung für deinen Tauchurlaub! \n\n  \nInfos & Anmeldung\nSchreib uns einfach über das Kontaktformular\, besuche uns in der Tauchschule (scubaboard\, Stockhofstraße 9\, 4020 Linz) oder ruf uns einfach an ( Tel. +43 (0) 732 / 66 56 89)
URL:https://www.scubaboard.at/event/scuba-skills-update-13/
LOCATION:Tauchschule Scubaboard\, Stockhofstraße 9\, Linz\, 4020\, Österreich
CATEGORIES:Scuba Skills Update,Tauchkurse
ATTACH;FMTTYPE=image/jpeg:https://www.scubaboard.at/wp-content/uploads/2025/11/Scuba-Skills-Update-scaled.jpg
END:VEVENT
BEGIN:VEVENT
DTSTART;TZID=Europe/Vienna:20261215T184000
DTEND;TZID=Europe/Vienna:20261215T210000
DTSTAMP:20260420T131815
CREATED:20251104T125425Z
LAST-MODIFIED:20251104T125425Z
UID:10502-1797360000-1797368400@www.scubaboard.at
SUMMARY:Scuba Skills Update
DESCRIPTION:Du bist aus der Übung? – Wir machen dich wieder fit!\nTrainiere deine Tauchfertigkeiten\n\nEin Scuba Skills Update bietet dir die Möglichkeit\, die grundlegenden Tauchfertigkeiten\, die du in deinem ursprünglichen Open Water Diver Programm gelernt hast\, zu wiederholen und zu üben. \nNach einer längeren Pause ist das Scuba Skills Update oft eine Voraussetzung für die Fortführung deiner Tauchausbildung. \nDie beste Vorbereitung für deinen Tauchurlaub! \n\n  \nInfos & Anmeldung\nSchreib uns einfach über das Kontaktformular\, besuche uns in der Tauchschule (scubaboard\, Stockhofstraße 9\, 4020 Linz) oder ruf uns einfach an ( Tel. +43 (0) 732 / 66 56 89)
URL:https://www.scubaboard.at/event/scuba-skills-update-14/
LOCATION:Tauchschule Scubaboard\, Stockhofstraße 9\, Linz\, 4020\, Österreich
CATEGORIES:Scuba Skills Update,Tauchkurse
ATTACH;FMTTYPE=image/jpeg:https://www.scubaboard.at/wp-content/uploads/2025/11/Scuba-Skills-Update-scaled.jpg
END:VEVENT
END:VCALENDAR